BEGIN:VCALENDAR
VERSION:2.0
PRODID:-//eventon.com NONSGML v1.0//EN
CALSCALE:GREGORIAN
METHOD:PUBLISH
BEGIN:VEVENT
UID:69e7a2c431a36
DTSTAMP:20260421T161604Z
DTSTART:20230713
DTEND:20230714
LOCATION:
SUMMARY:KÖZSZÖV Tapasztalatcsere Meghívó 2023.07.13. Svédasztal a közétkeztetésben\,  főzőkonyhai folyamatok optimalizálása
DESCRIPTION:A Közétkeztetők\,  Élelmezésvezetők Országos Szövetség
 e (KÖZSZÖV) szeretettel meghívja a 2023. július 13-i KÖZSZÖV Tapaszta
 latcserére\,  melynek helyszíne Dabas. Az esemény során Dabason szerezh
 etünk tapasztalatot a közétkeztető főzőkonyhák működésének optim
 alizálási lehetőségeiről\,  valamint megismerhetjük a svédasztalos t
 álalásban rejlő kihívásokat. Látogatók száma: legfeljebb 30 fő Az 
 eseményre való utazás egyénileg történik. Helyszín: Dabasi Táncsics
 [..]\nhttps://kozszov.hu/kozszov-esemenyek/kozszov-tapasztalatcsere-meghivo
 -2023-07-13-svedasztal-a-kozetkeztetesben-fozokonyhai-folyamatok-optimaliza
 lasa/
URL:https://kozszov.hu/kozszov-esemenyek/kozszov-tapasztalatcsere-meghivo-2023-07-13-svedasztal-a-kozetkeztetesben-fozokonyhai-folyamatok-optimalizalasa/
END:VEVENT
END:VCALENDAR